BEGIN:VCALENDAR
VERSION:2.0
PRODID:-//Infinity Aero Club Tampa Bay - ECPv6.15.17.1//NONSGML v1.0//EN
CALSCALE:GREGORIAN
METHOD:PUBLISH
X-ORIGINAL-URL:https://infinityaeroclub.org
X-WR-CALDESC:Events for Infinity Aero Club Tampa Bay
REFRESH-INTERVAL;VALUE=DURATION:PT1H
X-Robots-Tag:noindex
X-PUBLISHED-TTL:PT1H
BEGIN:VTIMEZONE
TZID:America/New_York
BEGIN:DAYLIGHT
TZOFFSETFROM:-0500
TZOFFSETTO:-0400
TZNAME:EDT
DTSTART:20210314T070000
END:DAYLIGHT
BEGIN:STANDARD
TZOFFSETFROM:-0400
TZOFFSETTO:-0500
TZNAME:EST
DTSTART:20211107T060000
END:STANDARD
BEGIN:DAYLIGHT
TZOFFSETFROM:-0500
TZOFFSETTO:-0400
TZNAME:EDT
DTSTART:20220313T070000
END:DAYLIGHT
BEGIN:STANDARD
TZOFFSETFROM:-0400
TZOFFSETTO:-0500
TZNAME:EST
DTSTART:20221106T060000
END:STANDARD
BEGIN:DAYLIGHT
TZOFFSETFROM:-0500
TZOFFSETTO:-0400
TZNAME:EDT
DTSTART:20230312T070000
END:DAYLIGHT
BEGIN:STANDARD
TZOFFSETFROM:-0400
TZOFFSETTO:-0500
TZNAME:EST
DTSTART:20231105T060000
END:STANDARD
BEGIN:DAYLIGHT
TZOFFSETFROM:-0500
TZOFFSETTO:-0400
TZNAME:EDT
DTSTART:20240310T070000
END:DAYLIGHT
BEGIN:STANDARD
TZOFFSETFROM:-0400
TZOFFSETTO:-0500
TZNAME:EST
DTSTART:20241103T060000
END:STANDARD
BEGIN:DAYLIGHT
TZOFFSETFROM:-0500
TZOFFSETTO:-0400
TZNAME:EDT
DTSTART:20250309T070000
END:DAYLIGHT
BEGIN:STANDARD
TZOFFSETFROM:-0400
TZOFFSETTO:-0500
TZNAME:EST
DTSTART:20251102T060000
END:STANDARD
BEGIN:DAYLIGHT
TZOFFSETFROM:-0500
TZOFFSETTO:-0400
TZNAME:EDT
DTSTART:20260308T070000
END:DAYLIGHT
BEGIN:STANDARD
TZOFFSETFROM:-0400
TZOFFSETTO:-0500
TZNAME:EST
DTSTART:20261101T060000
END:STANDARD
END:VTIMEZONE
BEGIN:VEVENT
DTSTART;TZID=America/New_York:20251115T100000
DTEND;TZID=America/New_York:20251115T140000
DTSTAMP:20260423T115309
CREATED:20250909T233541Z
LAST-MODIFIED:20251110T071914Z
UID:1387-1763200800-1763215200@infinityaeroclub.org
SUMMARY:Aviation STEM & Learning Day Sat 15Nov (10AM-2PM)
DESCRIPTION:FLIGHT\, STEM & FUN FOR ALL AGES! \nINFINITY AERO CLUB TAMPA BAYPresents the 3rd Annual Aviation STEM Day \nCelebrate National STEM Day and Aviation History Month with an exciting day of aviation\, STEM learning\, and career exploration\, while discovering the future of flight. \nAVIATION – STEM & LEARNING DAY\nJoin us for an unforgettable Open House Event filled with hands-on learning\, flying experiences\, and career inspiration. Everyone is welcome! \n\n\nAVIATION STEM CERTIFICATEComplete hands-on activities and discussions to fulfill badge requirements. \n\n\nAVIATION CAREERSExplore the many career paths in aviation and aerospace. \n\n\nINTRO FLIGHTS & SIMULATORSTake an introductory flight and experience drone and flight simulators. \n\n\nSTEM LEARNINGSee how aviation connects to science\, technology\, engineering\, and math in fun and engaging ways. \n\n\n\nDATES & TIMESSaturday\, November 15\, 202510:00 AM – 2:00 PM \nLOCATIONInfinity Aero Club Tampa Bay4639 Birdsong BlvdLutz\, FL 33559 \nREGISTERVisit: https://infinityaeroclub.org/member-sign-up/Call/Text: (813) 445-8889Email: info@infinityaeroclubtampa.org
URL:https://infinityaeroclub.org/event/https-docs-google-com-forms-d-e-1faipqlsdp9lk88zp15lei1uyqh9zcxupp7whqjkbwbayykdjrmnv15q-viewformuspheader/
END:VEVENT
BEGIN:VEVENT
DTSTART;TZID=America/New_York:20241207T100000
DTEND;TZID=America/New_York:20241207T170000
DTSTAMP:20260423T115309
CREATED:20241025T230434Z
LAST-MODIFIED:20241027T001829Z
UID:1311-1733565600-1733590800@infinityaeroclub.org
SUMMARY:Scouting America Aviation Merit Badge STEM & Learning Day Sat 07 Dec (10AM-5PM)
DESCRIPTION:Scouting America Aviation Merit Badge STEM & Learning Day 10AM-5PM Sat\, Dec 7 Signup! \n 
URL:https://infinityaeroclub.org/event/https-docs-google-com-forms-d-e-1faipqlsc_ovnkiijvjugj9yxez6lkozcq847pvobk4o1wjcsytvwnfq-viewformuspsf_link/
END:VEVENT
BEGIN:VEVENT
DTSTART;TZID=America/New_York:20241116T100000
DTEND;TZID=America/New_York:20241116T120000
DTSTAMP:20260423T115309
CREATED:20241025T230756Z
LAST-MODIFIED:20241025T231233Z
UID:1314-1731751200-1731758400@infinityaeroclub.org
SUMMARY:Explore Aviation STEM Day! Sat 16 Nov 10-12pm
DESCRIPTION:Explore Aviation STEM Day! Sat 16 Nov 10-12pm
URL:https://infinityaeroclub.org/event/explore-aviation-day/
END:VEVENT
BEGIN:VEVENT
DTSTART;TZID=America/New_York:20240914T120000
DTEND;TZID=America/New_York:20240914T140000
DTSTAMP:20260423T115309
CREATED:20240826T002611Z
LAST-MODIFIED:20240826T002935Z
UID:1173-1726315200-1726322400@infinityaeroclub.org
SUMMARY:Dreams to Reality Caribbean Cuisine Fundraiser 😋
DESCRIPTION:Afterward\, stay for our Hidden Treasures Dreams to Reality Fundraiser from 12 PM to 2 PM\, featuring delicious Caribbean cuisine of Jamaican Jerk Chicken\, Fish\, and Festival. Please RSVP with the number of attendees and your preferred 1 of 2 meal selection! 😋\nRSVP here https://www.facebook.com/share/HLF6so9uTSCo4L27/?mibextid=9l3rBW
URL:https://infinityaeroclub.org/event/1173/
END:VEVENT
BEGIN:VEVENT
DTSTART;TZID=America/New_York:20240914T100000
DTEND;TZID=America/New_York:20240914T120000
DTSTAMP:20260423T115309
CREATED:20240826T002133Z
LAST-MODIFIED:20240904T052442Z
UID:1167-1726308000-1726315200@infinityaeroclub.org
SUMMARY:Explore Aviation STEM Day
DESCRIPTION:14 Sep Exlpore Aviation- \nJoin Infinity Aero Club Tampa Bay for a day of fun and learning at our monthly Explore Aviation STEM Post/Club on September 14th from 10 AM to 12 PM! 🚁✈️ \nRSVP here https://www.facebook.com/share/HLF6so9uTSCo4L27/?mibextid=9l3rBW \n 
URL:https://infinityaeroclub.org/event/1167/
END:VEVENT
BEGIN:VEVENT
DTSTART;TZID=America/New_York:20240907T100000
DTEND;TZID=America/New_York:20240907T140000
DTSTAMP:20260423T115309
CREATED:20240901T230651Z
LAST-MODIFIED:20240901T230651Z
UID:1211-1725703200-1725717600@infinityaeroclub.org
SUMMARY:Infinity Aero Club Aviation STEM Open House
DESCRIPTION:Come Join us for aviation STEM Fun this Sat 07 Sep 10-2pm.
URL:https://infinityaeroclub.org/event/infinity-aero-club-aviation-stem-open-house/
LOCATION:Tampa North Aeropark (X39)\, 4639 Birdsong Blvd\, Lutz\, FL\, 33559\, United States
END:VEVENT
BEGIN:VEVENT
DTSTART;TZID=America/New_York:20240817T130000
DTEND;TZID=America/New_York:20240817T170000
DTSTAMP:20260423T115309
CREATED:20240826T001718Z
LAST-MODIFIED:20240826T002009Z
UID:1162-1723899600-1723914000@infinityaeroclub.org
SUMMARY:Explore Aviation STEM Update
DESCRIPTION:Totally a blow-out Explore Aviation STEM event this past weekend with ~60+ guests and our pilots flying 15 young people at no-cost! See you again 14 Sept 10-12pm! A special thank you’s to our volunteers for an amazing FUN and SAFE time!✈️🙂🙃  https://www.facebook.com/share/p/vLdtnRYBCiTPhJdt/? \n 
URL:https://infinityaeroclub.org/event/update/
END:VEVENT
BEGIN:VEVENT
DTSTART;TZID=America/New_York:20240817T100000
DTEND;TZID=America/New_York:20240817T120000
DTSTAMP:20260423T115309
CREATED:20240806T001837Z
LAST-MODIFIED:20240806T001837Z
UID:1085-1723888800-1723896000@infinityaeroclub.org
SUMMARY:Aviation Open House: Tours & STEM Training Programs
DESCRIPTION:Aviation Open House: Tours & STEM Training Programs \n•Explore Aviation Club/Post: 17 Aug 2024\, 10-12pm \n•Local middle & high schoolers hands-on-training \n •Learn: rocketry\, drones\, aircraft\, maintenance & flight \n• •1st and 3rd Sat:\n•Learn the nuts & bolts of starting an aviation club\n •Educate-the-Educator series “in/after-school aviation club” training 10-2pm  \n•Weekdays: Tours\, aviation & drone training by appt: \n •10-12pm  \n•12-2pm \n •2-4pm
URL:https://infinityaeroclub.org/event/aviation-open-house-tours-stem-training-programs/
END:VEVENT
BEGIN:VEVENT
DTSTART;TZID=America/New_York:20240210T090000
DTEND;TZID=America/New_York:20240210T130000
DTSTAMP:20260423T115309
CREATED:20240115T233138Z
LAST-MODIFIED:20240201T153656Z
UID:969-1707555600-1707570000@infinityaeroclub.org
SUMMARY:3rd Annual Black History Month Fly/Drive-In Breakfast
DESCRIPTION:Infinity Aero Club Tampa Bay\, Inc again in collaboration and partnership with the The 99th Squadron will host a Black History month celebration and 3rd annual meet-up of Black Pilots Fly/Drive-in Breakfast event Feb 10 in Tampa Fl… $20 meal donation. \nIt would be an honor to have some if not all of Infinity Aero Club’s partners/sponsors\, members\, volunteers and friends supporting this amazing meetup of these trailblazer role models\, while inspiring our youth to pursue EXCELLENCE! “What They See Is What They Will Be”. \nSee the below link to last years testimonial writeup event from The 99th Squadron! You may not want to miss this years! \nhttps://www.facebook.com/100069517547340/posts/552131470447433/?mibextid=zjnd3F8JVLI2prtF \nHere is a recap of Infinity Aero Club Tampa Bay\, Inc hosting last year’s 2nd annual Celebration of Black History Month “Black Pilots Fly/Drive-in Breakfast event in coordination with The 99th Squadron. \nMr. Arthur Billingsley shares this amazing video documentation for all to witness our EPIC event! \nTurning Passion into Reality – Transforming an idea into action demands concentration\, commitment\, and perseverance. In 2020\, Ricardo Foster (LCDR\, USN-ret) shared his profound passion for establishing a flight academy for the local youth. Ricardo went on to actualize this vision by founding the Infinity Aero Club(501(c)3)(https://infinityaeroclub.org/) at X39 airport in North Tampa\, Florida (Tampa North Aero Park). \nPresently\, the Aero Club not only inspires local youth to pursue careers in aviation but also initiates them into the aviation community. Offering mentorship\, introductory flights\, ground school instruction\, flight simulators\, drone and UAV introductions\, career guidance\, and support\, along with scholarships from sponsors\, the Aero Club is a commendable initiative. Ricardo’s unwavering professionalism in bringing this passion to fruition deserves applause and a salute! https://youtu.be/xWQKtDYoZz0 \nTampa North Aero Park @ AirNav: https://www.airnav.com/airport/X39
URL:https://infinityaeroclub.org/event/3rd-annual-black-history-month-fly-drive-in-breakfast/
LOCATION:Tampa North Aeropark (X39)\, 4639 Birdsong Blvd\, Lutz\, FL\, 33559\, United States
ATTACH;FMTTYPE=image/jpeg:https://infinityaeroclub.org/wp-content/uploads/2024/01/52898923254_34a52dfd28_o-scaled-e1705463124218.jpg
END:VEVENT
BEGIN:VEVENT
DTSTART;TZID=America/New_York:20231217T210000
DTEND;TZID=America/New_York:20231217T220000
DTSTAMP:20260423T115309
CREATED:20231217T060641Z
LAST-MODIFIED:20231217T173348Z
UID:890-1702846800-1702850400@infinityaeroclub.org
SUMMARY:"On the Fly" Featuring 100 Black Men of Greater Florida
DESCRIPTION:﻿﻿
URL:https://infinityaeroclub.org/event/on-the-fly-featuring-100-black-men-of-greater-florida/
LOCATION:Smithsonian Channel
END:VEVENT
BEGIN:VEVENT
DTSTART;TZID=America/New_York:20220820T160000
DTEND;TZID=America/New_York:20220820T190000
DTSTAMP:20260423T115309
CREATED:20220819T202426Z
LAST-MODIFIED:20220819T202426Z
UID:824-1661011200-1661022000@infinityaeroclub.org
SUMMARY:Aviation Community Outreach
DESCRIPTION:On this coming Saturday\, August 20 from 4 to 7 p.m. Infinity Aero Club of Tampa Bay will be hosting another spectacular Aviation Day & Movie Night for families interested in aviation (Drone\, Flight Simulator & Airplane Flights)\, with a Movie showing after sunset. \nThe aviation fun will be at the Tampa North Aero Park\, located at my airpark home (4639 Birdsong Blvd)). RSVP required\, contact ricardo@infinityaeroclub.org call or text 757-353-8610 \nThe Infinity Aero Club of Tampa was founded by Ricardo Foster\, to bring aviation and related STEM activities to underserved youth and their communities. \nActivities that will be available: \n·   Instructor-led drone lessons for children ages seven and up\n·   Instructor-led flight simulator lessons in an FAA-approved flight simulator (sponsored by Gleim Aviation)\n·   A 15-minute flight on an airplane\, motor glider\, or gyrocopter\n·   Movie entertainment after sunset\n·   Music entertainment (singing and guitar playing around firepit)
URL:https://infinityaeroclub.org/event/aviation-community-outreach/
LOCATION:Tampa North Aeropark (X39)\, 4639 Birdsong Blvd\, Lutz\, FL\, 33559\, United States
END:VEVENT
END:VCALENDAR